BEGIN:VCALENDAR
VERSION:2.0
PRODID:icalendar-ruby
CALSCALE:GREGORIAN
METHOD:PUBLISH
BEGIN:VEVENT
DTSTAMP:20260423T104433Z
UID:11-497029@cawsonstreetchurchofchrist.com
DTSTART:20260923T230000Z
DTEND:20260924T000000Z
CLASS:PUBLIC
CREATED:20260422T224153
DESCRIPTION:
LAST-MODIFIED:20260422T224153
LOCATION:
SUMMARY:Wednesday Bible Study 
URL;VALUE=URI:https://cawsonstreetchurchofchrist.com/events/wednesday-bible
 -study--11/2026-09-23
ATTACH;FILENAME=20240327_191259.jpg;FMTTYPE=image/jpeg:https://dq5pwpg1q8ru
 0.cloudfront.net/2024/06/27/15/40/00/bfb8c529-f9c2-4198-9ca8-d4eafdac19af/
 20240327_191259.jpg
END:VEVENT
END:VCALENDAR
