BEGIN:VCALENDAR
VERSION:2.0
PRODID:icalendar-ruby
CALSCALE:GREGORIAN
METHOD:PUBLISH
BEGIN:VEVENT
DTSTAMP:20260423T174254Z
UID:11-497829@cawsonstreetchurchofchrist.com
DTSTART:20261021T230000Z
DTEND:20261022T000000Z
CLASS:PUBLIC
CREATED:20260423T110457
DESCRIPTION:
LAST-MODIFIED:20260423T110457
LOCATION:
SUMMARY:Wednesday Bible Study 
URL;VALUE=URI:https://cawsonstreetchurchofchrist.com/events/wednesday-bible
 -study--11/2026-10-21
ATTACH;FILENAME=20240327_191259.jpg;FMTTYPE=image/jpeg:https://dq5pwpg1q8ru
 0.cloudfront.net/2024/06/27/15/40/00/bfb8c529-f9c2-4198-9ca8-d4eafdac19af/
 20240327_191259.jpg
END:VEVENT
END:VCALENDAR
